BEGIN:VCALENDAR
VERSION:2.0
PRODID:-//The Trip Thailand - ECPv6.15.13.1//NONSGML v1.0//EN
CALSCALE:GREGORIAN
METHOD:PUBLISH
X-WR-CALNAME:The Trip Thailand
X-ORIGINAL-URL:https://thetripthailand.com
X-WR-CALDESC:Events for The Trip Thailand
REFRESH-INTERVAL;VALUE=DURATION:PT1H
X-Robots-Tag:noindex
X-PUBLISHED-TTL:PT1H
BEGIN:VTIMEZONE
TZID:Asia/Krasnoyarsk
BEGIN:STANDARD
TZOFFSETFROM:+0700
TZOFFSETTO:+0700
TZNAME:+07
DTSTART:20230101T000000
END:STANDARD
END:VTIMEZONE
BEGIN:VEVENT
DTSTART;VALUE=DATE:20241003
DTEND;VALUE=DATE:20241012
DTSTAMP:20260419T231801
CREATED:20240913T023127Z
LAST-MODIFIED:20240913T023906Z
UID:16481-1727913600-1728691199@thetripthailand.com
SUMMARY:Vegetarian Festival 2024
DESCRIPTION:Vegetarian Festival 2024: A Captivating Cultural Experience\nDates: October 3-11\, 2024 \nLocations: Celebrated in every city across Thailand\, including popular Phuket\, Bangkok\, Trang\, Krabi\, and Chiang Mai. \nThe Vegetarian Festival\, also known as the Nine Emperor Gods Festival\, is a vibrant and unique cultural event held annually in Thailand. This nine-day festival is celebrated by the Chinese community to honor the Nine Emperor Gods and promote vegetarianism and spiritual purity. \nThe exact origin of the Vegetarian Festival is unclear\, but it is believed to have originated in China and spread to Thailand centuries ago. The festival is said to have started after a group of Chinese opera performers fell ill during a performance in Phuket. To seek divine intervention\, they adopted a strict vegetarian diet and performed rituals to appease the gods. Their recovery led to the belief that vegetarianism and spiritual practices could bring good health and fortune. \nHow to Celebrate: \n\nRespectful Behavior: Observe the festival with respect and reverence for the cultural significance.\nVegetarian Diet: Follow a vegetarian diet during the festival period.\nVisit Temples: Explore decorated temples and participate in the processions.\nWitness Rituals: Observe the self-mutilation rituals with caution and respect.\nEnjoy Vegetarian Food: Savor the delicious vegetarian dishes offered during the festival.\n\nRecommended Venue to explore the festival \n\nPhuket’s Most Iconic Celebration – Phuket Town\nBangkok – Yaowarat Road (Chinatown)\nBuddhist Chinese Temple –  i.e. Wat Mangkorn Kamalawat (Marble Temple); Wat Leng Nai (Golden Buddha Temple)\n\n \nThe Vegetarian Festival is a truly unique and captivating experience that offers a glimpse into Thailand’s rich cultural heritage. Whether you’re a spiritual seeker\, a foodie\, or simply curious about Thai traditions\, this festival is not to be missed.
URL:https://thetripthailand.com/event/vegetarian-festival-2024/
CATEGORIES:Culture & History,Food & Drink,Traditional Festivals
ATTACH;FMTTYPE=image/jpeg:https://thetripthailand.com/wp-content/uploads/2024/09/anna-korzik-1kaBIXLcUXs-unsplash-scaled.jpg
END:VEVENT
END:VCALENDAR